BEGIN:VCALENDAR
VERSION:2.0
PRODID:-//Kedron Brook Catchment Branch - ECPv6.15.12.2//NONSGML v1.0//EN
CALSCALE:GREGORIAN
METHOD:PUBLISH
X-ORIGINAL-URL:http://www.kedronbrook.org.au
X-WR-CALDESC:Events for Kedron Brook Catchment Branch
REFRESH-INTERVAL;VALUE=DURATION:PT1H
X-Robots-Tag:noindex
X-PUBLISHED-TTL:PT1H
BEGIN:VTIMEZONE
TZID:Australia/Brisbane
BEGIN:STANDARD
TZOFFSETFROM:+1000
TZOFFSETTO:+1000
TZNAME:AEST
DTSTART:20240101T000000
END:STANDARD
END:VTIMEZONE
BEGIN:VEVENT
DTSTART;TZID=Australia/Brisbane:20250301T070000
DTEND;TZID=Australia/Brisbane:20250301T090000
DTSTAMP:20260421T202206
CREATED:20250206T213038Z
LAST-MODIFIED:20250206T213038Z
UID:582-1740812400-1740819600@www.kedronbrook.org.au
SUMMARY:Zion Hill Bushcare Group Working Bee
DESCRIPTION:Zion Hill Bushcare Group meets from 7am to 9am 1st Saturday of each month off Hedley Ave Nundah\, in German Station Park (part of Albert Bishop Park) adjacent Nundah Historic Cemetry. We are carrying out bush regen activities between fenced Dog park at northern end and cemetery as southern end.
URL:http://www.kedronbrook.org.au/event/zion-hill-bushcare-group-working-bee/
LOCATION:German Station Park\, Hedley Avenue\, Nundah
CATEGORIES:Bushcare
ORGANIZER;CN="Zion Hill Bushcare Group":MAILTO:Peter Weir petercweir@hotmail.com
END:VEVENT
BEGIN:VEVENT
DTSTART;TZID=Australia/Brisbane:20250301T083000
DTEND;TZID=Australia/Brisbane:20250301T110000
DTSTAMP:20260421T202206
CREATED:20250228T033012Z
LAST-MODIFIED:20250228T033012Z
UID:602-1740817800-1740826800@www.kedronbrook.org.au
SUMMARY:Sparkes Hill Butterfly Count
DESCRIPTION:Reprising our survey  Brisbane’s Big Butterfly Count\, come up to corner of Matthews and McCawley Streets in Stafford for a walk along Sparkes Hill to swing a net and see how butterfly numbers are fairing.
URL:http://www.kedronbrook.org.au/event/sparkes-hill-butterfly-count/
LOCATION:Spakes Hill Reserve
ORGANIZER;CN="Kedron Brook Catchment Branch":MAILTO:enquiries@kedronbrook.org.au
END:VEVENT
END:VCALENDAR