BEGIN:VCALENDAR
VERSION:2.0
PRODID:-//Kedron Brook Catchment Branch - ECPv6.15.12.2//NONSGML v1.0//EN
CALSCALE:GREGORIAN
METHOD:PUBLISH
X-ORIGINAL-URL:http://www.kedronbrook.org.au
X-WR-CALDESC:Events for Kedron Brook Catchment Branch
REFRESH-INTERVAL;VALUE=DURATION:PT1H
X-Robots-Tag:noindex
X-PUBLISHED-TTL:PT1H
BEGIN:VTIMEZONE
TZID:Australia/Brisbane
BEGIN:STANDARD
TZOFFSETFROM:+1000
TZOFFSETTO:+1000
TZNAME:AEST
DTSTART:20240101T000000
END:STANDARD
END:VTIMEZONE
BEGIN:VEVENT
DTSTART;VALUE=DATE:20250303
DTEND;VALUE=DATE:20250304
DTSTAMP:20260421T202202
CREATED:20250206T215416Z
LAST-MODIFIED:20250206T215416Z
UID:593-1740960000-1741046399@www.kedronbrook.org.au
SUMMARY:World Wildlife Day
DESCRIPTION:On 20 December 2013 at 68th Session of United Nations General Assembly (UNGA)\, March 3 was declared United Nations World Wildlife Day (WWD). This day holds significance as day that the Convention on International Trade in Endangered Species of Wild Fauna and Flora (CITES) was signed in 1973. The UNGA Resolution designated CITES Secretariat as facilitator for global observance of this special day for wildlife on UN calendar. UN World Wildlife Day has now become global annual event dedicated to wildlife.
URL:http://www.kedronbrook.org.au/event/world-wildlife-day/
END:VEVENT
END:VCALENDAR