BEGIN:VCALENDAR
VERSION:2.0
PRODID:-//Kedron Brook Catchment Branch - ECPv6.15.12.2//NONSGML v1.0//EN
CALSCALE:GREGORIAN
METHOD:PUBLISH
X-ORIGINAL-URL:http://www.kedronbrook.org.au
X-WR-CALDESC:Events for Kedron Brook Catchment Branch
REFRESH-INTERVAL;VALUE=DURATION:PT1H
X-Robots-Tag:noindex
X-PUBLISHED-TTL:PT1H
BEGIN:VTIMEZONE
TZID:Australia/Brisbane
BEGIN:STANDARD
TZOFFSETFROM:+1000
TZOFFSETTO:+1000
TZNAME:AEST
DTSTART:20240101T000000
END:STANDARD
END:VTIMEZONE
BEGIN:VEVENT
DTSTART;TZID=Australia/Brisbane:20250315T070000
DTEND;TZID=Australia/Brisbane:20250315T090000
DTSTAMP:20260421T202244
CREATED:20250308T055234Z
LAST-MODIFIED:20250310T104918Z
UID:651-1742022000-1742029200@www.kedronbrook.org.au
SUMMARY:Kalinga Park Bushcare Group Working Bee
DESCRIPTION:This group is working on northern bank of Kedron Brook in Carew Street Park and Toombul Terrace Park\, consolidating many years of previous work and returning site to useful native habitat for all to enjoy. This group is particularly interested in protection of remnant Weeping Lilly Pilly (Waterhousea floribunda) and black bean (Castanospermum australe). \nThis volunteer group meets on third Saturday of every month from 7-9am. New volunteers are very welcome! \nContact details\nFor more information\, contact Amie Wimberley on 0418 183 730\, send an email or visit groups Facebook page.
URL:http://www.kedronbrook.org.au/event/kalinga-park-bushcare-group-working-bee-2/
LOCATION:Kalinga Park\, Park Avenue\, Kalinga\, Queensland\, 4030\, Australia
END:VEVENT
END:VCALENDAR