BEGIN:VCALENDAR
VERSION:2.0
PRODID:-//Kedron Brook Catchment Branch - ECPv6.15.12.2//NONSGML v1.0//EN
CALSCALE:GREGORIAN
METHOD:PUBLISH
X-WR-CALNAME:Kedron Brook Catchment Branch
X-ORIGINAL-URL:http://www.kedronbrook.org.au
X-WR-CALDESC:Events for Kedron Brook Catchment Branch
REFRESH-INTERVAL;VALUE=DURATION:PT1H
X-Robots-Tag:noindex
X-PUBLISHED-TTL:PT1H
BEGIN:VTIMEZONE
TZID:Australia/Brisbane
BEGIN:STANDARD
TZOFFSETFROM:+1000
TZOFFSETTO:+1000
TZNAME:AEST
DTSTART:20240101T000000
END:STANDARD
END:VTIMEZONE
BEGIN:VEVENT
DTSTART;TZID=Australia/Brisbane:20250316T083000
DTEND;TZID=Australia/Brisbane:20250316T113000
DTSTAMP:20260421T202153
CREATED:20250308T043521Z
LAST-MODIFIED:20250310T104947Z
UID:635-1742113800-1742124600@www.kedronbrook.org.au
SUMMARY:Greenbrook Association Working Bee
DESCRIPTION:March Planting Session – Planting in Area 11\nThe group meets at Blandford St entrance to Grange Forest Park (see map below) on 3rd Sunday of every month between 8.30 am and 11.30 am. In good old Australian tradition billy is usually boiled around 10:30am. \nWhere to Find Us – At commencement of each working bee we meet outside tool shed at Blandford St entrance to Grange Forest Park. \nContact David Walters for more information and to confirm your attendance david.walters7@bigpond.com
URL:http://www.kedronbrook.org.au/event/greenbrook-association-working-bee/
LOCATION:Grange Forest Park\, Blandford Street (Greenbrook Association Tool Shed on Google Maps)\, Grange
ORGANIZER;CN="Greenbrook Association":MAILTO:David Walters - dlwalters53@gmail.com
END:VEVENT
END:VCALENDAR