BEGIN:VCALENDAR
VERSION:2.0
PRODID:-//Kedron Brook Catchment Branch - ECPv6.15.12.2//NONSGML v1.0//EN
CALSCALE:GREGORIAN
METHOD:PUBLISH
X-ORIGINAL-URL:http://www.kedronbrook.org.au
X-WR-CALDESC:Events for Kedron Brook Catchment Branch
REFRESH-INTERVAL;VALUE=DURATION:PT1H
X-Robots-Tag:noindex
X-PUBLISHED-TTL:PT1H
BEGIN:VTIMEZONE
TZID:Australia/Brisbane
BEGIN:STANDARD
TZOFFSETFROM:+1000
TZOFFSETTO:+1000
TZNAME:AEST
DTSTART:20240101T000000
END:STANDARD
END:VTIMEZONE
BEGIN:VEVENT
DTSTART;VALUE=DATE:20250318
DTEND;VALUE=DATE:20250319
DTSTAMP:20260421T204245
CREATED:20250310T104522Z
LAST-MODIFIED:20250310T104709Z
UID:914-1742256000-1742342399@www.kedronbrook.org.au
SUMMARY:Global Recycling Day
DESCRIPTION:Global Recycling Day is an annual event that aims to raise awareness of importance of recycling and encourage people to take action to reduce waste and protect environment. The day brings together individuals\, organisations\, and governments from around world to promote sustainable practices and highlight benefits of recycling. \nFind out more on website – https://www.globalrecyclingday.com/about/
URL:http://www.kedronbrook.org.au/event/global-recycling-day/
END:VEVENT
END:VCALENDAR