BEGIN:VCALENDAR
VERSION:2.0
PRODID:-//Kedron Brook Catchment Branch - ECPv6.15.12.2//NONSGML v1.0//EN
CALSCALE:GREGORIAN
METHOD:PUBLISH
X-WR-CALNAME:Kedron Brook Catchment Branch
X-ORIGINAL-URL:http://www.kedronbrook.org.au
X-WR-CALDESC:Events for Kedron Brook Catchment Branch
REFRESH-INTERVAL;VALUE=DURATION:PT1H
X-Robots-Tag:noindex
X-PUBLISHED-TTL:PT1H
BEGIN:VTIMEZONE
TZID:Australia/Brisbane
BEGIN:STANDARD
TZOFFSETFROM:+1000
TZOFFSETTO:+1000
TZNAME:AEST
DTSTART:20240101T000000
END:STANDARD
END:VTIMEZONE
BEGIN:VEVENT
DTSTART;VALUE=DATE:20250321
DTEND;VALUE=DATE:20250322
DTSTAMP:20260421T202155
CREATED:20250310T105858Z
LAST-MODIFIED:20250310T105858Z
UID:916-1742515200-1742601599@www.kedronbrook.org.au
SUMMARY:International Day of Forests
DESCRIPTION:Did you know that forests cover nearly a third of world’s land mass? More than 1.6 billion people rely on forests for their survival. That’s why United Nations has declared 21 March as International Day of Forests every year. Why not have a tree planting campaign to reflect on this day and help address impacts of deforestation? \nRead more on website – https://www.un.org/en/observances/forests-and-trees-day \nRead more on Landcare Australia website – https://landcareaustralia.org.au/landcare-event/international-day-forests/
URL:http://www.kedronbrook.org.au/event/international-day-of-forests/
END:VEVENT
END:VCALENDAR