BEGIN:VCALENDAR
VERSION:2.0
PRODID:-//Kedron Brook Catchment Branch - ECPv6.15.12.2//NONSGML v1.0//EN
CALSCALE:GREGORIAN
METHOD:PUBLISH
X-ORIGINAL-URL:http://www.kedronbrook.org.au
X-WR-CALDESC:Events for Kedron Brook Catchment Branch
REFRESH-INTERVAL;VALUE=DURATION:PT1H
X-Robots-Tag:noindex
X-PUBLISHED-TTL:PT1H
BEGIN:VTIMEZONE
TZID:Australia/Brisbane
BEGIN:STANDARD
TZOFFSETFROM:+1000
TZOFFSETTO:+1000
TZNAME:AEST
DTSTART:20240101T000000
END:STANDARD
END:VTIMEZONE
BEGIN:VEVENT
DTSTART;TZID=Australia/Brisbane:20250323T070000
DTEND;TZID=Australia/Brisbane:20250323T210000
DTSTAMP:20260420T004407
CREATED:20250308T030935Z
LAST-MODIFIED:20250310T104748Z
UID:606-1742713200-1742763600@www.kedronbrook.org.au
SUMMARY:KBCB Monthly Bird Walk
DESCRIPTION:Bob Cassimaty Park\, Thomsett Park and Arbor Park \nThe April Bird Walk has been brought forward to March. \nMeet in Bob Cassimaty Park car park\, Samford Road\, almost opposite BP Service Station\, Ferny Grove. Look at Crane Reserve\, Thomsett Park\, Bob Cassimaty Park\, and finish back to cars via Arbor Park. \nDates and times are accurate at time of publishing\, however circumstances can change and alterations may occur. For further information\, or to book in\, please contact Peter Blackmore on mobile telephone no. 0419 780 700 or via email to: peterjblackmore@optusnet.com.au
URL:http://www.kedronbrook.org.au/event/kbcb-bird-walk/
LOCATION:Bob Cassimaty Park
ORGANIZER;CN="Kedron Brook Catchment Branch":MAILTO:enquiries@kedronbrook.org.au
END:VEVENT
END:VCALENDAR