BEGIN:VCALENDAR
VERSION:2.0
PRODID:-//Kedron Brook Catchment Branch - ECPv6.15.12.2//NONSGML v1.0//EN
CALSCALE:GREGORIAN
METHOD:PUBLISH
X-WR-CALNAME:Kedron Brook Catchment Branch
X-ORIGINAL-URL:http://www.kedronbrook.org.au
X-WR-CALDESC:Events for Kedron Brook Catchment Branch
REFRESH-INTERVAL;VALUE=DURATION:PT1H
X-Robots-Tag:noindex
X-PUBLISHED-TTL:PT1H
BEGIN:VTIMEZONE
TZID:Australia/Brisbane
BEGIN:STANDARD
TZOFFSETFROM:+1000
TZOFFSETTO:+1000
TZNAME:AEST
DTSTART:20240101T000000
END:STANDARD
END:VTIMEZONE
BEGIN:VEVENT
DTSTART;TZID=Australia/Brisbane:20250401T190000
DTEND;TZID=Australia/Brisbane:20250401T203000
DTSTAMP:20260421T192010
CREATED:20250308T055634Z
LAST-MODIFIED:20250310T105031Z
UID:654-1743534000-1743539400@www.kedronbrook.org.au
SUMMARY:KBCB Monthly Meeting
DESCRIPTION:Get involved in shaping future of Kedron Brook catchment! Our monthly meeting is your chance to hear updates\, discuss projects and share ideas on protecting our local environment. Whether you’re a regular or a newcomer\, all are welcome to join our passionate community. \nContact enquiries@kedronbrook.org.au for more information
URL:http://www.kedronbrook.org.au/event/kbcb-monthly-meeting/
LOCATION:Zoom Conference Call
ORGANIZER;CN="Kedron Brook Catchment Branch":MAILTO:enquiries@kedronbrook.org.au
END:VEVENT
END:VCALENDAR