BEGIN:VCALENDAR
VERSION:2.0
PRODID:-//Kedron Brook Catchment Branch - ECPv6.15.12.2//NONSGML v1.0//EN
CALSCALE:GREGORIAN
METHOD:PUBLISH
X-WR-CALNAME:Kedron Brook Catchment Branch
X-ORIGINAL-URL:http://www.kedronbrook.org.au
X-WR-CALDESC:Events for Kedron Brook Catchment Branch
REFRESH-INTERVAL;VALUE=DURATION:PT1H
X-Robots-Tag:noindex
X-PUBLISHED-TTL:PT1H
BEGIN:VTIMEZONE
TZID:Australia/Brisbane
BEGIN:STANDARD
TZOFFSETFROM:+1000
TZOFFSETTO:+1000
TZNAME:AEST
DTSTART:20240101T000000
END:STANDARD
END:VTIMEZONE
BEGIN:VEVENT
DTSTART;TZID=Australia/Brisbane:20250607T070000
DTEND;TZID=Australia/Brisbane:20250607T090000
DTSTAMP:20260422T102734
CREATED:20250531T072047Z
LAST-MODIFIED:20250531T072047Z
UID:967-1749279600-1749286800@www.kedronbrook.org.au
SUMMARY:Zion Hill Bushcare Group - June Working Bee
DESCRIPTION:Zion Hill Bushcare Group meet from 7am to 9am 1st Saturday of each month off Hedley Ave Nundah\, in German Station Park (part of Albert Bishop Park) adjacent Nundah Historic Cemetry. We are carrying out bush regen activities between fenced Dog park at northern end and cemetery as southern end. \nContact Peter Weir for more information and to confirm your attendance petercweir@hotmail.com
URL:http://www.kedronbrook.org.au/event/zion-hill-bushcare-group-june-working-bee/
LOCATION:Albert Bishop Park\, Headley Avenue\, Nundah
CATEGORIES:Bushcare
ORGANIZER;CN="Zion Hill Bushcare Group":MAILTO:Peter Weir petercweir@hotmail.com
END:VEVENT
BEGIN:VEVENT
DTSTART;TZID=Australia/Brisbane:20250615T083000
DTEND;TZID=Australia/Brisbane:20250615T113000
DTSTAMP:20260422T102734
CREATED:20250531T073449Z
LAST-MODIFIED:20250531T073449Z
UID:972-1749976200-1749987000@www.kedronbrook.org.au
SUMMARY:Greenbrook Association - June Working Bee
DESCRIPTION:Greenbrook Association meets at Blandford St entrance to Grange Forest Park (see map below) on 3rd Sunday of every month between 8.30 am and 11.30 am. In good old Australian tradition billy is usually boiled around 10:30am. \nWhere to Find Us – At commencement of each working bee we meet outside tool shed at Blandford St entrance to Grange Forest Park. \nContact David Walters for more information and to confirm your attendance david.walters7@bigpond.com
URL:http://www.kedronbrook.org.au/event/greenbrook-association-june-working-bee/
LOCATION:Grange Forest Park\, Blandford Street (Greenbrook Association Tool Shed on Google Maps)\, Grange
CATEGORIES:Bushcare
ORGANIZER;CN="Greenbrook Association":MAILTO:David Walters - dlwalters53@gmail.com
END:VEVENT
BEGIN:VEVENT
DTSTART;TZID=Australia/Brisbane:20250621T080000
DTEND;TZID=Australia/Brisbane:20250621T100000
DTSTAMP:20260422T102734
CREATED:20250531T072630Z
LAST-MODIFIED:20250531T072630Z
UID:969-1750492800-1750500000@www.kedronbrook.org.au
SUMMARY:Kalinga Park Bushcare Group - June Working Bee
DESCRIPTION:Come and be part of Kalinga Park Bushcare Group’s regular working bee!\nWhether you’re a seasoned volunteer or a first-timer\, everyone is welcome – no experience necessary!\nWe’ll be meeting at picnic table along walking track on northern side of Kalinga Park\, right near plaque about historic coal mine. It’s a great chance to enjoy outdoors\, meet some new people\, and do a little good for park.\nAfter working bee\, join us for a well-earned morning tea where you can relax and chat  fellow volunteers.Don’t forget to wear closed-in shoes\, and bring a hat\, a water bottle!  tools\, gloves\, and other equipment will be provided.\nWe look forward to seeing you there and working together to help care for this beautiful park!\nFor more information and to confirm your attendance\, contact Amie via email: kalingaparkbushcaregroup@gmail.com
URL:http://www.kedronbrook.org.au/event/kalinga-park-bushcare-group-june-working-bee/
LOCATION:Kalinga Park\, Park Avenue\, Kalinga\, Queensland\, 4030\, Australia
CATEGORIES:Bushcare
END:VEVENT
END:VCALENDAR