BEGIN:VCALENDAR
VERSION:2.0
PRODID:-//Kedron Brook Catchment Branch - ECPv6.15.12.2//NONSGML v1.0//EN
CALSCALE:GREGORIAN
METHOD:PUBLISH
X-ORIGINAL-URL:http://www.kedronbrook.org.au
X-WR-CALDESC:Events for Kedron Brook Catchment Branch
REFRESH-INTERVAL;VALUE=DURATION:PT1H
X-Robots-Tag:noindex
X-PUBLISHED-TTL:PT1H
BEGIN:VTIMEZONE
TZID:Australia/Brisbane
BEGIN:STANDARD
TZOFFSETFROM:+1000
TZOFFSETTO:+1000
TZNAME:AEST
DTSTART:20240101T000000
END:STANDARD
END:VTIMEZONE
BEGIN:VEVENT
DTSTART;TZID=Australia/Brisbane:20251002T080000
DTEND;TZID=Australia/Brisbane:20251002T100000
DTSTAMP:20260422T054409
CREATED:20251003T125336Z
LAST-MODIFIED:20251003T125336Z
UID:1061-1759392000-1759399200@www.kedronbrook.org.au
SUMMARY:Wahminda Grove Bushcare Group - October Working Bee
DESCRIPTION:Wahminda Grove Bushcare Group is rehabilitating upper reaches of Kedron Brook where it runs through Brisbane Forest Park. This section has good natural values but is threatened by dumping of garden rubbish and impact of stormwater. The group is working strategically on removal of weeds where bushland adjoins a residential area\, as well as planting to fill gaps in riparian (or riverbank) vegetation. Volunteer working bees are held on first and third Thursdays of each month from 8-10am\, and 2-4pm on last Sunday of each month. \nContact details\nFor more information\, email Lyn or Ann Ellerman.
URL:http://www.kedronbrook.org.au/event/wahminda-grove-bushcare-group-october-working-bee-3/
LOCATION:Wahaminda Park\, Baden Lane\, Ferny Hills
CATEGORIES:Bushcare
ORGANIZER;CN="Wahminda Grove Bushcare Group":MAILTO:ellerman2@bigpond.com
END:VEVENT
BEGIN:VEVENT
DTSTART;TZID=Australia/Brisbane:20251016T080000
DTEND;TZID=Australia/Brisbane:20251016T100000
DTSTAMP:20260422T054409
CREATED:20251003T125215Z
LAST-MODIFIED:20251003T125215Z
UID:1059-1760601600-1760608800@www.kedronbrook.org.au
SUMMARY:Wahminda Grove Bushcare Group - October Working Bee
DESCRIPTION:Wahminda Grove Bushcare Group is rehabilitating upper reaches of Kedron Brook where it runs through Brisbane Forest Park. This section has good natural values but is threatened by dumping of garden rubbish and impact of stormwater. The group is working strategically on removal of weeds where bushland adjoins a residential area\, as well as planting to fill gaps in riparian (or riverbank) vegetation. Volunteer working bees are held on first and third Thursdays of each month from 8-10am\, and 2-4pm on last Sunday of each month. \nContact details\nFor more information\, email Lyn or Ann Ellerman.
URL:http://www.kedronbrook.org.au/event/wahminda-grove-bushcare-group-october-working-bee-2/
LOCATION:Wahaminda Park\, Baden Lane\, Ferny Hills
CATEGORIES:Bushcare
ORGANIZER;CN="Wahminda Grove Bushcare Group":MAILTO:ellerman2@bigpond.com
END:VEVENT
BEGIN:VEVENT
DTSTART;TZID=Australia/Brisbane:20251018T070000
DTEND;TZID=Australia/Brisbane:20251018T090000
DTSTAMP:20260422T054409
CREATED:20251003T123347Z
LAST-MODIFIED:20251003T123347Z
UID:1050-1760770800-1760778000@www.kedronbrook.org.au
SUMMARY:Kalinga Park Bushcare Group - October Working Bee
DESCRIPTION:Come and be part of Kalinga Park Bushcare Group’s regular working bee!\nWhether you’re a seasoned volunteer or a first-timer\, everyone is welcome – no experience necessary!\nWe’ll be meeting at picnic table along walking track on northern side of Kalinga Park\, right near plaque about historic coal mine. It’s a great chance to enjoy outdoors\, meet some new people\, and do a little good for park.\nAfter working bee\, join us for a well-earned morning tea where you can relax and chat  fellow volunteers.Don’t forget to wear closed-in shoes\, and bring a hat\, a water bottle!  tools\, gloves\, and other equipment will be provided.\nWe look forward to seeing you there and working together to help care for this beautiful park!\nFor more information and to confirm your attendance\, contact Amie via email: kalingaparkbushcaregroup@gmail.com
URL:http://www.kedronbrook.org.au/event/kalinga-park-bushcare-group-october-working-bee/
LOCATION:Kalinga Park\, Park Avenue\, Kalinga\, Queensland\, 4030\, Australia
CATEGORIES:Bushcare
END:VEVENT
BEGIN:VEVENT
DTSTART;TZID=Australia/Brisbane:20251019T083000
DTEND;TZID=Australia/Brisbane:20251019T113000
DTSTAMP:20260422T054409
CREATED:20251003T123049Z
LAST-MODIFIED:20251003T123049Z
UID:1047-1760862600-1760873400@www.kedronbrook.org.au
SUMMARY:Greenbrook Association - October Working Bee
DESCRIPTION:Greenbrook Association meets at Blandford St entrance to Grange Forest Park (see map below) on 3rd Sunday of every month between 8.30 am and 11.30 am. In good old Australian tradition billy is usually boiled around 10:30am. \nWhere to Find Us – At commencement of each working bee we meet outside tool shed at Blandford St entrance to Grange Forest Park. \nContact David Walters for more information and to confirm your attendance david.walters7@bigpond.com
URL:http://www.kedronbrook.org.au/event/greenbrook-association-october-working-bee/
LOCATION:Grange Forest Park\, Blandford Street (Greenbrook Association Tool Shed on Google Maps)\, Grange
CATEGORIES:Bushcare
ORGANIZER;CN="Greenbrook Association":MAILTO:David Walters - dlwalters53@gmail.com
END:VEVENT
END:VCALENDAR