BEGIN:VCALENDAR
VERSION:2.0
PRODID:-//Kedron Brook Catchment Branch - ECPv6.15.12.2//NONSGML v1.0//EN
CALSCALE:GREGORIAN
METHOD:PUBLISH
X-WR-CALNAME:Kedron Brook Catchment Branch
X-ORIGINAL-URL:http://www.kedronbrook.org.au
X-WR-CALDESC:Events for Kedron Brook Catchment Branch
REFRESH-INTERVAL;VALUE=DURATION:PT1H
X-Robots-Tag:noindex
X-PUBLISHED-TTL:PT1H
BEGIN:VTIMEZONE
TZID:Australia/Brisbane
BEGIN:STANDARD
TZOFFSETFROM:+1000
TZOFFSETTO:+1000
TZNAME:AEST
DTSTART:20240101T000000
END:STANDARD
END:VTIMEZONE
BEGIN:VEVENT
DTSTART;TZID=Australia/Brisbane:20250607T070000
DTEND;TZID=Australia/Brisbane:20250607T090000
DTSTAMP:20260422T014653
CREATED:20250531T072047Z
LAST-MODIFIED:20250531T072047Z
UID:967-1749279600-1749286800@www.kedronbrook.org.au
SUMMARY:Zion Hill Bushcare Group - June Working Bee
DESCRIPTION:Zion Hill Bushcare Group meet from 7am to 9am 1st Saturday of each month off Hedley Ave Nundah\, in German Station Park (part of Albert Bishop Park) adjacent Nundah Historic Cemetry. We are carrying out bush regen activities between fenced Dog park at northern end and cemetery as southern end. \nContact Peter Weir for more information and to confirm your attendance petercweir@hotmail.com
URL:http://www.kedronbrook.org.au/event/zion-hill-bushcare-group-june-working-bee/
LOCATION:Albert Bishop Park\, Headley Avenue\, Nundah
CATEGORIES:Bushcare
ORGANIZER;CN="Zion Hill Bushcare Group":MAILTO:Peter Weir petercweir@hotmail.com
END:VEVENT
BEGIN:VEVENT
DTSTART;TZID=Australia/Brisbane:20250302T070000
DTEND;TZID=Australia/Brisbane:20250302T090000
DTSTAMP:20260422T014653
CREATED:20250206T213905Z
LAST-MODIFIED:20250310T104830Z
UID:586-1740898800-1740906000@www.kedronbrook.org.au
SUMMARY:Gilbert Road Bushcare Group Working Bee
DESCRIPTION:Established in early 2024\, we’re a committed band of local community volunteers working to revegetate Kedron Brook\, starting on west side of Gilbert Road bridge. We meet on fourth Sunday morning of month. \nFebruary Working Bee is being pushed back to first week of March! \nMeet you on Brook at end of Jean St\, Grange. Much needed weeding activities in store to help our babies survive elephant grass rampage!
URL:http://www.kedronbrook.org.au/event/gilbert-road-bushcare-group-working-bee/
LOCATION:Gilbert Road\, Lutwyche\, 100A Jean Street\, Grange
CATEGORIES:Bushcare
ORGANIZER;CN="Gilbert Road Bushcare Group":MAILTO:Gilbertroadbushcaregroup@gmail.com
END:VEVENT
BEGIN:VEVENT
DTSTART;TZID=Australia/Brisbane:20250301T070000
DTEND;TZID=Australia/Brisbane:20250301T090000
DTSTAMP:20260422T014653
CREATED:20250206T213038Z
LAST-MODIFIED:20250206T213038Z
UID:582-1740812400-1740819600@www.kedronbrook.org.au
SUMMARY:Zion Hill Bushcare Group Working Bee
DESCRIPTION:Zion Hill Bushcare Group meets from 7am to 9am 1st Saturday of each month off Hedley Ave Nundah\, in German Station Park (part of Albert Bishop Park) adjacent Nundah Historic Cemetry. We are carrying out bush regen activities between fenced Dog park at northern end and cemetery as southern end.
URL:http://www.kedronbrook.org.au/event/zion-hill-bushcare-group-working-bee/
LOCATION:German Station Park\, Hedley Avenue\, Nundah
CATEGORIES:Bushcare
ORGANIZER;CN="Zion Hill Bushcare Group":MAILTO:Peter Weir petercweir@hotmail.com
END:VEVENT
BEGIN:VEVENT
DTSTART;TZID=Australia/Brisbane:20250216T083000
DTEND;TZID=Australia/Brisbane:20250216T113000
DTSTAMP:20260422T014653
CREATED:20250206T211242Z
LAST-MODIFIED:20250206T212156Z
UID:569-1739694600-1739705400@www.kedronbrook.org.au
SUMMARY:Greenbrook Association Bushcare Working Bee
DESCRIPTION:The group meets at Blandford St entrance to Grange Forest Park (see map below) on 3rd Sunday of every month between 8.30 am and 11.30 am. In good old Australian tradition billy is usually boiled around 10:30am. \nWhere to Find Us\nAt commencement of each working bee we meet outside tool shed at Blandford St entrance to Grange Forest Park. \nFebruary Planting Session – Planting in Area 11
URL:http://www.kedronbrook.org.au/event/greenbrook-association-bushcare-working-bee/
LOCATION:Grange Forest Park\, Blandford Street (Greenbrook Association Tool Shed on Google Maps)\, Grange
CATEGORIES:Bushcare
ORGANIZER;CN="Greenbrook Association":MAILTO:David Walters - dlwalters53@gmail.com
END:VEVENT
BEGIN:VEVENT
DTSTART;TZID=Australia/Brisbane:20250215T070000
DTEND;TZID=Australia/Brisbane:20250215T090000
DTSTAMP:20260422T014653
CREATED:20250206T212022Z
LAST-MODIFIED:20250206T212022Z
UID:577-1739602800-1739610000@www.kedronbrook.org.au
SUMMARY:Kalinga Park Bushcare Group Working Bee
DESCRIPTION:Come and be part of Kalinga Park Bushcare Group’s regular working bee!\nWhether you’re a seasoned volunteer or a first-timer\, everyone is welcome – no experience necessary!\nWe’ll be meeting at picnic table along walking track on northern side of Kalinga Park\, right near plaque about historic coal mine. It’s a great chance to enjoy outdoors\, meet some new people\, and do a little good for park.\nAfter working bee\, join us for a well-earned morning tea where you can relax and chat  fellow volunteers.Don’t forget to wear closed-in shoes\, and bring a hat\, a water bottle!  tools\, gloves\, and other equipment will be provided.\nWe look forward to seeing you there and working together to help care for this beautiful park!
URL:http://www.kedronbrook.org.au/event/kalinga-park-bushcare-group-working-bee/
CATEGORIES:Bushcare
END:VEVENT
END:VCALENDAR