BEGIN:VCALENDAR
VERSION:2.0
PRODID:-//Kedron Brook Catchment Branch - ECPv6.15.12.2//NONSGML v1.0//EN
CALSCALE:GREGORIAN
METHOD:PUBLISH
X-ORIGINAL-URL:http://www.kedronbrook.org.au
X-WR-CALDESC:Events for Kedron Brook Catchment Branch
REFRESH-INTERVAL;VALUE=DURATION:PT1H
X-Robots-Tag:noindex
X-PUBLISHED-TTL:PT1H
BEGIN:VTIMEZONE
TZID:Australia/Brisbane
BEGIN:STANDARD
TZOFFSETFROM:+1000
TZOFFSETTO:+1000
TZNAME:AEST
DTSTART:20240101T000000
END:STANDARD
END:VTIMEZONE
BEGIN:VEVENT
DTSTART;TZID=Australia/Brisbane:20251204T080000
DTEND;TZID=Australia/Brisbane:20251204T100000
DTSTAMP:20260423T080245
CREATED:20251130T055332Z
LAST-MODIFIED:20251130T055332Z
UID:1151-1764835200-1764842400@www.kedronbrook.org.au
SUMMARY:Wahminda Grove Bushcare Group – December Working Bee
DESCRIPTION:Wahminda Grove Bushcare Group is rehabilitating upper reaches of Kedron Brook where it runs through Brisbane Forest Park. This section has good natural values but is threatened by dumping of garden rubbish and impact of stormwater. The group is working strategically on removal of weeds where bushland adjoins a residential area\, as well as planting to fill gaps in riparian (or riverbank) vegetation. Volunteer working bees are held on first and third Thursdays of each month from 8-10am\, and 2-4pm on last Sunday of each month. \nContact details\nFor more information\, email Lyn or Ann Ellerman.
URL:http://www.kedronbrook.org.au/event/wahminda-grove-bushcare-group-december-working-bee/
LOCATION:Wahminda Park\, Samford Road\, Ferny Hills\, Queensland\, 4055\, Australia
CATEGORIES:Bushcare
ORGANIZER;CN="Wahminda Grove Bushcare Group":MAILTO:ellerman2@bigpond.com
END:VEVENT
BEGIN:VEVENT
DTSTART;TZID=Australia/Brisbane:20251206T070000
DTEND;TZID=Australia/Brisbane:20251206T090000
DTSTAMP:20260423T080245
CREATED:20251130T051528Z
LAST-MODIFIED:20251130T051528Z
UID:1139-1765004400-1765011600@www.kedronbrook.org.au
SUMMARY:Zion Hill Bushcare Group – December Working Bee
DESCRIPTION:Zion Hill Bushcare Group meet from 7am to 9am 1st Saturday of each month off Hedley Ave Nundah\, in German Station Park (part of Albert Bishop Park) adjacent Nundah Historic Cemetry. We’ll meet at shed near historic Nundah Cemetery in Hedley Ave Nundah to carry out bush regen activities between fenced Dog park at northern end and cemetery as southern end. \nContact Peter Weir for more information and to confirm your attendance petercweir@hotmail.com
URL:http://www.kedronbrook.org.au/event/zion-hill-bushcare-group-december-working-bee/
LOCATION:German Station Park\, Hedley Avenue\, Nundah
CATEGORIES:Bushcare
ORGANIZER;CN="Zion Hill Bushcare Group":MAILTO:Peter Weir petercweir@hotmail.com
END:VEVENT
BEGIN:VEVENT
DTSTART;TZID=Australia/Brisbane:20251214T070000
DTEND;TZID=Australia/Brisbane:20251214T090000
DTSTAMP:20260423T080245
CREATED:20251130T050400Z
LAST-MODIFIED:20251130T050400Z
UID:1131-1765695600-1765702800@www.kedronbrook.org.au
SUMMARY:Gilbert Road Bushcare Group – December Working Bee
DESCRIPTION:Established in early 2024\, we’re a committed band of local community volunteers working to revegetate Kedron Brook\, starting on west side of Gilbert Road bridge. We meet on fourth Sunday morning of month. \nMeet you on Brook at end of Jean St\, Grange. Much needed weeding activities in store to help our babies survive elephant grass rampage! \nContact Caroline for more information and to confirm your attendance via email to Gilbertroadbushcaregroup@gmail.com
URL:http://www.kedronbrook.org.au/event/gilbert-road-bushcare-group-december-working-bee/
LOCATION:100A Jean Street\, Grange
CATEGORIES:Bushcare
ORGANIZER;CN="Gilbert Road Bushcare Group":MAILTO:Gilbertroadbushcaregroup@gmail.com
END:VEVENT
BEGIN:VEVENT
DTSTART;TZID=Australia/Brisbane:20251218T080000
DTEND;TZID=Australia/Brisbane:20251218T100000
DTSTAMP:20260423T080245
CREATED:20251130T055453Z
LAST-MODIFIED:20251130T055453Z
UID:1154-1766044800-1766052000@www.kedronbrook.org.au
SUMMARY:Wahminda Grove Bushcare Group – December Working Bee
DESCRIPTION:Wahminda Grove Bushcare Group is rehabilitating upper reaches of Kedron Brook where it runs through Brisbane Forest Park. This section has good natural values but is threatened by dumping of garden rubbish and impact of stormwater. The group is working strategically on removal of weeds where bushland adjoins a residential area\, as well as planting to fill gaps in riparian (or riverbank) vegetation. Volunteer working bees are held on first and third Thursdays of each month from 8-10am\, and 2-4pm on last Sunday of each month. \nContact details\nFor more information\, email Lyn or Ann Ellerman.
URL:http://www.kedronbrook.org.au/event/wahminda-grove-bushcare-group-december-working-bee-2/
LOCATION:Wahminda Park\, Samford Road\, Ferny Hills\, Queensland\, 4055\, Australia
CATEGORIES:Bushcare
ORGANIZER;CN="Wahminda Grove Bushcare Group":MAILTO:ellerman2@bigpond.com
END:VEVENT
BEGIN:VEVENT
DTSTART;TZID=Australia/Brisbane:20260111T070000
DTEND;TZID=Australia/Brisbane:20260111T090000
DTSTAMP:20260423T080245
CREATED:20251130T050551Z
LAST-MODIFIED:20251130T050551Z
UID:1133-1768114800-1768122000@www.kedronbrook.org.au
SUMMARY:Gilbert Road Bushcare Group – January Working Bee
DESCRIPTION:Established in early 2024\, we’re a committed band of local community volunteers working to revegetate Kedron Brook\, starting on west side of Gilbert Road bridge. We meet on fourth Sunday morning of month. \nMeet you on Brook at end of Jean St\, Grange. Much needed weeding activities in store to help our babies survive elephant grass rampage! \nContact Caroline for more information and to confirm your attendance via email to Gilbertroadbushcaregroup@gmail.com
URL:http://www.kedronbrook.org.au/event/gilbert-road-bushcare-group-january-working-bee/
LOCATION:100A Jean Street\, Grange
CATEGORIES:Bushcare
ORGANIZER;CN="Gilbert Road Bushcare Group":MAILTO:Gilbertroadbushcaregroup@gmail.com
END:VEVENT
END:VCALENDAR