BEGIN:VCALENDAR
VERSION:2.0
PRODID:-//Kedron Brook Catchment Branch - ECPv6.15.12.2//NONSGML v1.0//EN
CALSCALE:GREGORIAN
METHOD:PUBLISH
X-ORIGINAL-URL:http://www.kedronbrook.org.au
X-WR-CALDESC:Events for Kedron Brook Catchment Branch
REFRESH-INTERVAL;VALUE=DURATION:PT1H
X-Robots-Tag:noindex
X-PUBLISHED-TTL:PT1H
BEGIN:VTIMEZONE
TZID:Australia/Brisbane
BEGIN:STANDARD
TZOFFSETFROM:+1000
TZOFFSETTO:+1000
TZNAME:AEST
DTSTART:20240101T000000
END:STANDARD
END:VTIMEZONE
BEGIN:VEVENT
DTSTART;VALUE=DATE:20250302
DTEND;VALUE=DATE:20250303
DTSTAMP:20260422T114530
CREATED:20250206T215008Z
LAST-MODIFIED:20250206T215101Z
UID:590-1740873600-1740959999@www.kedronbrook.org.au
SUMMARY:Clean Up Australia Day
DESCRIPTION:This year marks 35 years of Clean Up Australia Day! \nFind a clean up event near you – https://register.cleanup.org.au/join-a-clean-up
URL:http://www.kedronbrook.org.au/event/clean-up-australia-day/
END:VEVENT
END:VCALENDAR